BEGIN:VCALENDAR
VERSION:2.0
PRODID:SchoolNow
CALSCALE:GREGORIAN
BEGIN:VEVENT
UID:3fc320a6-28cc-11ef-99c8-02e09b97ddb7
DTSTAMP:20240612T145837Z
SUMMARY:PTO Meeting
URL;VALUE=URI:https://www.gls36.org/pto/calendar/6112777/pto-meeting
DTSTART:20240909T233000Z
DTEND:20240910T003000Z
END:VEVENT
END:VCALENDAR
