BEGIN:VCALENDAR
VERSION:2.0
PRODID:SchoolNow
CALSCALE:GREGORIAN
BEGIN:VEVENT
UID:f5dc424a-28c8-11ef-bb1b-02e09b97ddb7
DTSTAMP:20240612T145921Z
SUMMARY:PTO Meeting
URL;VALUE=URI:https://www.gls36.org/pto/calendar/6112766/pto-meeting
DTSTART:20240805T233000Z
DTEND:20240806T003000Z
END:VEVENT
END:VCALENDAR
