BEGIN:VCALENDAR
VERSION:2.0
PRODID:SchoolNow
CALSCALE:GREGORIAN
BEGIN:VEVENT
UID:63da86e0-28c3-11ef-889b-023ea7f94923
DTSTAMP:20240612T135513Z
SUMMARY:Fall Fest
URL;VALUE=URI:https://www.gls36.org/pto/calendar/6112736/fall-fest
DTSTART:20241019T135400Z
DTEND:20241019T145400Z
END:VEVENT
END:VCALENDAR
