BEGIN:VCALENDAR
VERSION:2.0
PRODID:SchoolNow
CALSCALE:GREGORIAN
BEGIN:VEVENT
UID:d7d8a314-28bf-11ef-8541-0a58a9feac02
DTSTAMP:20240612T132949Z
SUMMARY:BTS and Supply Drop off BBQ
URL;VALUE=URI:https://www.gls36.org/pto/calendar/6112730/bts-and-supply-dro
 p-off-bbq
DTSTART:20240818T170000Z
DTEND:20240818T190000Z
END:VEVENT
END:VCALENDAR
