BEGIN:VCALENDAR
VERSION:2.0
PRODID:SchoolNow
CALSCALE:GREGORIAN
BEGIN:VEVENT
UID:36f62d7a-3245-11ee-8a12-0a58a9feac02
DTSTAMP:20230803T213215Z
SUMMARY:Teacher Appreciation Week
URL;VALUE=URI:https://www.gls36.org/pto/calendar/4546195/teacher-appreciati
 on-week
DTSTART:20240506T213100Z
DTEND:20240510T223100Z
END:VEVENT
END:VCALENDAR
