BEGIN:VCALENDAR
VERSION:2.0
PRODID:SchoolNow
CALSCALE:GREGORIAN
BEGIN:VEVENT
UID:f625968c-3244-11ee-a661-020e34789605
DTSTAMP:20230803T213026Z
SUMMARY:PTO Meeting
LOCATION:MPR
URL;VALUE=URI:https://www.gls36.org/pto/calendar/4546193/pto-meeting
DTSTART:20240415T233000Z
DTEND:20240416T003000Z
END:VEVENT
END:VCALENDAR
