BEGIN:VCALENDAR
VERSION:2.0
PRODID:SchoolNow
CALSCALE:GREGORIAN
BEGIN:VEVENT
UID:994af444-323e-11ee-b7f2-0a58a9feac02
DTSTAMP:20230803T204453Z
SUMMARY:PTO Meeting
LOCATION:MPR
URL;VALUE=URI:https://www.gls36.org/pto/calendar/4545101/pto-meeting
DTSTART:20240311T233000Z
DTEND:20240312T003000Z
END:VEVENT
END:VCALENDAR
