BEGIN:VCALENDAR
VERSION:2.0
PRODID:SchoolNow
CALSCALE:GREGORIAN
BEGIN:VEVENT
UID:cc2148ba-323d-11ee-896c-027b4a6ebcdd
DTSTAMP:20230803T203909Z
SUMMARY:PTO Meeting
LOCATION:MPR
URL;VALUE=URI:https://www.gls36.org/pto/calendar/4545095/pto-meeting
DTSTART:20240213T003000Z
DTEND:20240213T013000Z
END:VEVENT
END:VCALENDAR
