BEGIN:VCALENDAR
VERSION:2.0
PRODID:SchoolNow
CALSCALE:GREGORIAN
BEGIN:VEVENT
UID:d9b83642-323c-11ee-b143-022d37e437c1
DTSTAMP:20230803T203222Z
SUMMARY:PTO Meeting
LOCATION:MPR
URL;VALUE=URI:https://www.gls36.org/pto/calendar/4545088/pto-meeting
DTSTART:20231128T003000Z
DTEND:20231128T013000Z
END:VEVENT
END:VCALENDAR
