BEGIN:VCALENDAR
VERSION:2.0
PRODID:SchoolNow
CALSCALE:GREGORIAN
BEGIN:VEVENT
UID:ba7f91c6-323c-11ee-bd56-027b4a6ebcdd
DTSTAMP:20230803T203130Z
SUMMARY:PTO Meeting
LOCATION:MPR
URL;VALUE=URI:https://www.gls36.org/pto/calendar/4545087/pto-meeting
DTSTART:20231114T003000Z
DTEND:20231114T013000Z
END:VEVENT
END:VCALENDAR
