BEGIN:VCALENDAR
VERSION:2.0
PRODID:SchoolNow
CALSCALE:GREGORIAN
BEGIN:VEVENT
UID:6a2ab854-323c-11ee-be1b-0a58a9feac02
DTSTAMP:20230803T202915Z
SUMMARY:Popcorn Fundraiser
URL;VALUE=URI:https://www.gls36.org/pto/calendar/4545084/popcorn-fundraiser
DTSTART:20231024T202700Z
DTEND:20231028T212700Z
END:VEVENT
END:VCALENDAR
