BEGIN:VCALENDAR
VERSION:2.0
PRODID:SchoolNow
CALSCALE:GREGORIAN
BEGIN:VEVENT
UID:a3e82bb8-323b-11ee-8ec2-022d37e437c1
DTSTAMP:20230803T202513Z
SUMMARY:PTO Meeting
LOCATION:MPR
URL;VALUE=URI:https://www.gls36.org/pto/calendar/4545078/pto-meetig
DTSTART:20231016T233000Z
DTEND:20231017T003000Z
END:VEVENT
END:VCALENDAR
