BEGIN:VCALENDAR
VERSION:2.0
PRODID:SchoolNow
CALSCALE:GREGORIAN
BEGIN:VEVENT
UID:61d2b07c-323b-11ee-b40d-020e34789605
DTSTAMP:20230803T202443Z
SUMMARY:PTO Meeting
LOCATION:MPR
URL;VALUE=URI:https://www.gls36.org/pto/calendar/4545075/pto-meeting
DTSTART:20230911T233000Z
DTEND:20230912T003000Z
END:VEVENT
END:VCALENDAR
