BEGIN:VCALENDAR
VERSION:2.0
PRODID:SchoolNow
CALSCALE:GREGORIAN
BEGIN:VEVENT
UID:4a877b5e-3214-11ee-b470-0a58a9feac02
DTSTAMP:20230803T154202Z
SUMMARY:Supply Drop Off
URL;VALUE=URI:https://www.gls36.org/pto/calendar/4544972/supply-drop-off
DTSTART:20230809T220000Z
DTEND:20230810T000000Z
ATTACH;FILENAME=Supply Drop off 2023.pdf;FMTTYPE=application/pdf:https://ca
 mpussuite-storage.s3.amazonaws.com/prod/1053760/6c73247f-2f62-11e7-b792-22
 000bd8490f/2637756/315fa9a8-3214-11ee-a0cf-0ea31f41eb0d/file/Supply Drop o
 ff 2023.pdf
END:VEVENT
END:VCALENDAR
