BEGIN:VCALENDAR
VERSION:2.0
PRODID:SchoolNow
CALSCALE:GREGORIAN
BEGIN:VEVENT
UID:f48db454-3528-11ed-8226-0a9383cf27af
DTSTAMP:20220915T190233Z
SUMMARY:Jersey Mike's Fundraiser
URL;VALUE=URI:https://www.gls36.org/pto/calendar/3397751/jersey-mikes-fundr
 aiser
DTSTART;VALUE=DATE:20220922
DTEND;VALUE=DATE:20220923
ATTACH;FILENAME=Jersey mikes  Sept 22 2022  Grass Lake promo.pdf;FMTTYPE=ap
 plication/pdf:https://campussuite-storage.s3.amazonaws.com/prod/1053760/6c
 73247f-2f62-11e7-b792-22000bd8490f/2477092/eb778d54-3528-11ed-b6ff-0a9383c
 f27af/file/Jersey mikes  Sept 22 2022  Grass Lake promo.pdf
END:VEVENT
END:VCALENDAR
