BEGIN:VCALENDAR
VERSION:2.0
PRODID:SchoolNow
CALSCALE:GREGORIAN
BEGIN:VEVENT
UID:ebae9d3e-de78-11ef-954c-0e233b0604d3
DTSTAMP:20250129T194040Z
SUMMARY:Family Engagement Meeting
URL;VALUE=URI:https://www.gls36.org/calendar/7393627/family-engagement-meet
 ing
DTSTART:20250212T000000Z
DTEND:20250212T013000Z
END:VEVENT
END:VCALENDAR
