BEGIN:VCALENDAR
VERSION:2.0
PRODID:SchoolNow
CALSCALE:GREGORIAN
BEGIN:VEVENT
UID:b1bd6ffe-b3d7-11ef-9f11-0a58a9feac02
DTSTAMP:20241206T134045Z
SUMMARY:Middle School Winter Dance
URL;VALUE=URI:https://www.gls36.org/calendar/7130427/middle-school-winter-d
 ance
DTSTART:20250125T010000Z
DTEND:20250125T030000Z
ATTACH;FILENAME=2025 Middle School.png;FMTTYPE=image/png:https://campussuit
 e-storage.s3.amazonaws.com/prod/1053760/6c73247f-2f62-11e7-b792-22000bd849
 0f/2887736/a8fca0b0-b3d7-11ef-b20a-0a58a9feac02/file/2025 Middle School.pn
 g
END:VEVENT
END:VCALENDAR
