BEGIN:VCALENDAR
VERSION:2.0
PRODID:SchoolNow
CALSCALE:GREGORIAN
BEGIN:VEVENT
UID:cd89367a-a1f6-11ef-b32f-0a58a9feac02
DTSTAMP:20241113T193805Z
SUMMARY:Pre-K Parent Teacher Conferences
URL;VALUE=URI:https://www.gls36.org/calendar/7013895/pre-k-parent-teacher-c
 onferences
DTSTART:20241203T140000Z
DTEND:20241203T210000Z
END:VEVENT
END:VCALENDAR
