BEGIN:VCALENDAR
VERSION:2.0
PRODID:SchoolNow
CALSCALE:GREGORIAN
BEGIN:VEVENT
UID:b6203a1a-8fea-11ef-bda1-0e102dbab6c9
DTSTAMP:20241022T154348Z
SUMMARY:Halloween Middle School Dance 6-8
URL;VALUE=URI:https://www.gls36.org/calendar/6871288/halloween-middle-schoo
 l-dance-6-8
DTSTART:20241026T000000Z
DTEND:20241026T020000Z
ATTACH;FILENAME=Junior High Halloween Dance 24.pdf;FMTTYPE=application/pdf:
 https://campussuite-storage.s3.amazonaws.com/prod/1053760/6c73247f-2f62-11
 e7-b792-22000bd8490f/2866322/66fde570-908c-11ef-b5d4-0a58a9feac02/file/Jun
 ior High Halloween Dance 24.pdf
END:VEVENT
END:VCALENDAR
