BEGIN:VCALENDAR
VERSION:2.0
PRODID:SchoolNow
CALSCALE:GREGORIAN
BEGIN:VEVENT
UID:1eea8a36-865f-11ef-8421-0a58a9feac02
DTSTAMP:20241009T165417Z
SUMMARY:Family Engagement Meeting in the LRC
URL;VALUE=URI:https://www.gls36.org/calendar/6790715/family-engagement-meet
 ing-in-the-lrc
DTSTART:20241029T230000Z
DTEND:20241030T000000Z
END:VEVENT
END:VCALENDAR
