BEGIN:VCALENDAR
VERSION:2.0
PRODID:SchoolNow
CALSCALE:GREGORIAN
BEGIN:VEVENT
UID:027a7854-859a-11ef-93da-0affc21158ad
DTSTAMP:20241008T172318Z
SUMMARY:Teacher Institute Day
URL;VALUE=URI:https://www.gls36.org/calendar/6783647/teacher-institute-day
DTSTART:20250214T182200Z
DTEND:20250214T192200Z
END:VEVENT
END:VCALENDAR
