BEGIN:VCALENDAR
VERSION:2.0
PRODID:SchoolNow
CALSCALE:GREGORIAN
BEGIN:VEVENT
UID:9817aa22-8599-11ef-8eb9-0a58a9feac02
DTSTAMP:20241008T172019Z
SUMMARY:Washington's Birthday
URL;VALUE=URI:https://www.gls36.org/calendar/6783646/washingtons-birthday
DTSTART:20250217T181700Z
DTEND:20250217T191700Z
END:VEVENT
END:VCALENDAR
