BEGIN:VCALENDAR
VERSION:2.0
PRODID:SchoolNow
CALSCALE:GREGORIAN
BEGIN:VEVENT
UID:167957ae-8599-11ef-aed5-0a58a9feac02
DTSTAMP:20241008T171642Z
SUMMARY:Martin Luther King Jr. Day
URL;VALUE=URI:https://www.gls36.org/calendar/6783645/martin-luther-king-jr-
 day
DTSTART:20250120T181500Z
DTEND:20250120T191500Z
END:VEVENT
END:VCALENDAR
