BEGIN:VCALENDAR
VERSION:2.0
PRODID:SchoolNow
CALSCALE:GREGORIAN
BEGIN:VEVENT
UID:3d88f1a2-8598-11ef-9fa3-0affdb12cd57
DTSTAMP:20241008T171038Z
SUMMARY:Winter Break
URL;VALUE=URI:https://www.gls36.org/calendar/6783644/winter-break
DTSTART:20241223T180900Z
DTEND:20250103T190900Z
END:VEVENT
END:VCALENDAR
