BEGIN:VCALENDAR
VERSION:2.0
PRODID:SchoolNow
CALSCALE:GREGORIAN
BEGIN:VEVENT
UID:c2b28272-8597-11ef-845a-0e724a4b95d5
DTSTAMP:20241008T170712Z
SUMMARY:Fall Break
URL;VALUE=URI:https://www.gls36.org/calendar/6783642/fall-break
DTSTART:20241125T180500Z
DTEND:20241129T190500Z
END:VEVENT
END:VCALENDAR
