BEGIN:VCALENDAR
VERSION:2.0
PRODID:SchoolNow
CALSCALE:GREGORIAN
BEGIN:VEVENT
UID:98afb216-8596-11ef-8c14-0a58a9feac02
DTSTAMP:20241008T170015Z
SUMMARY:No Beyond the Bell
URL;VALUE=URI:https://www.gls36.org/calendar/6783641/no-beyond-the-bell
DTSTART:20241031T194500Z
DTEND:20241031T210000Z
END:VEVENT
END:VCALENDAR
