BEGIN:VCALENDAR
VERSION:2.0
PRODID:SchoolNow
CALSCALE:GREGORIAN
BEGIN:VEVENT
UID:86ba42fc-84e1-11ef-881e-0affc08788e9
DTSTAMP:20241008T170820Z
SUMMARY:Election Day
URL;VALUE=URI:https://www.gls36.org/calendar/6776884/election-day
DTSTART;VALUE=DATE:20241105
DTEND;VALUE=DATE:20241106
END:VEVENT
END:VCALENDAR
