BEGIN:VCALENDAR
VERSION:2.0
PRODID:SchoolNow
CALSCALE:GREGORIAN
BEGIN:VEVENT
UID:706f33be-81a7-11ef-8023-0a58a9feac02
DTSTAMP:20241113T192512Z
SUMMARY:GLS Family Bingo Night
URL;VALUE=URI:https://www.gls36.org/calendar/6748125/gls-bingo-night
DTSTART:20241116T000000Z
DTEND:20241116T020000Z
ATTACH;FILENAME=Bingo Night Flyer.pdf;FMTTYPE=application/pdf:https://campu
 ssuite-storage.s3.amazonaws.com/prod/1053760/6c73247f-2f62-11e7-b792-22000
 bd8490f/2879153/f4ddd890-a1f4-11ef-8677-0e2d7b7a7517/file/Bingo Night Flye
 r.pdf
END:VEVENT
END:VCALENDAR
