BEGIN:VCALENDAR
VERSION:2.0
PRODID:SchoolNow
CALSCALE:GREGORIAN
BEGIN:VEVENT
UID:40565b4c-819f-11ef-b2ee-02cc092d0721
DTSTAMP:20241003T155045Z
SUMMARY:Family Engagement Meeting in the LRC
URL;VALUE=URI:https://www.gls36.org/calendar/6748099/family-engagement-meet
 ing-in-the-lrc
DTSTART:20241008T230000Z
DTEND:20241009T000000Z
END:VEVENT
END:VCALENDAR
