BEGIN:VCALENDAR
VERSION:2.0
PRODID:SchoolNow
CALSCALE:GREGORIAN
BEGIN:VEVENT
UID:69e48e32-8016-11ef-b7e5-0a58a9feac02
DTSTAMP:20241009T165753Z
SUMMARY:Indigenous Peoples' Day
URL;VALUE=URI:https://www.gls36.org/calendar/6732806/indigenous-peoples-day
DTSTART;VALUE=DATE:20241014
DTEND;VALUE=DATE:20241015
END:VEVENT
END:VCALENDAR
