BEGIN:VCALENDAR
VERSION:2.0
PRODID:SchoolNow
CALSCALE:GREGORIAN
BEGIN:VEVENT
UID:e1a478ae-7ff5-11ef-8634-0a58a9feac02
DTSTAMP:20241001T130550Z
SUMMARY:Teacher Institute Day
URL;VALUE=URI:https://www.gls36.org/calendar/6732142/teacher-institue-day
DTSTART;VALUE=DATE:20241011
DTEND;VALUE=DATE:20241012
END:VEVENT
END:VCALENDAR
