BEGIN:VCALENDAR
VERSION:2.0
PRODID:SchoolNow
CALSCALE:GREGORIAN
BEGIN:VEVENT
UID:daa2c0de-7b76-11ef-839b-0affdc60cb4f
DTSTAMP:20240925T194627Z
SUMMARY:Chicago Wolves Game with Choir
URL;VALUE=URI:https://www.gls36.org/calendar/6689136/chicago-wolves-game-wi
 th-choir
DTSTART:20241110T200000Z
DTEND:20241110T233000Z
ATTACH;FILENAME=24-25 Choir Wolves Info (1).pdf;FMTTYPE=application/pdf:htt
 ps://campussuite-storage.s3.amazonaws.com/prod/1053760/6c73247f-2f62-11e7-
 b792-22000bd8490f/2853450/c26612a0-7b76-11ef-9d9a-02bc352869e7/file/24-25 
 Choir Wolves Info (1).pdf
END:VEVENT
END:VCALENDAR
