BEGIN:VCALENDAR
VERSION:2.0
PRODID:SchoolNow
CALSCALE:GREGORIAN
BEGIN:VEVENT
UID:d06add0e-7b5d-11ef-9cac-0a58a9feac02
DTSTAMP:20240925T164713Z
SUMMARY:5th Grade Field Trip
URL;VALUE=URI:https://www.gls36.org/calendar/6689008/5th-grade-field-trip
DTSTART:20241029T133000Z
DTEND:20241029T193000Z
END:VEVENT
END:VCALENDAR
