BEGIN:VCALENDAR
VERSION:2.0
PRODID:SchoolNow
CALSCALE:GREGORIAN
BEGIN:VEVENT
UID:c59d83aa-7a8f-11ef-ab2d-0a58a9feac02
DTSTAMP:20240924T161313Z
SUMMARY:Family Engagement Meeting in the LRC
URL;VALUE=URI:https://www.gls36.org/calendar/6680824/family-engagement-meet
 ing-in-the-lrc
DTSTART:20241001T230000Z
DTEND:20241002T000000Z
END:VEVENT
END:VCALENDAR
