BEGIN:VCALENDAR
VERSION:2.0
PRODID:SchoolNow
CALSCALE:GREGORIAN
BEGIN:VEVENT
UID:7dd96cc6-7a8c-11ef-a3b8-02ec9a156d6b
DTSTAMP:20240924T154849Z
SUMMARY:8th Grade Civil War Field Trip
URL;VALUE=URI:https://www.gls36.org/calendar/6680784/8th-grade-civil-war-fi
 eld-trip
DTSTART:20241001T140000Z
DTEND:20241001T190000Z
END:VEVENT
END:VCALENDAR
