BEGIN:VCALENDAR
VERSION:2.0
PRODID:SchoolNow
CALSCALE:GREGORIAN
BEGIN:VEVENT
UID:aeb07b3c-76a9-11ef-92cb-0e114c42936b
DTSTAMP:20240919T170742Z
SUMMARY:Picture Day Retake
URL;VALUE=URI:https://www.gls36.org/calendar/6642729/picture-day-retake
DTSTART:20241108T133000Z
DTEND:20241108T150000Z
END:VEVENT
END:VCALENDAR
