BEGIN:VCALENDAR
VERSION:2.0
PRODID:SchoolNow
CALSCALE:GREGORIAN
BEGIN:VEVENT
UID:81c1766c-76a9-11ef-8fc4-0a58a9feac02
DTSTAMP:20240919T170627Z
SUMMARY:Picture Day
URL;VALUE=URI:https://www.gls36.org/calendar/6642728/picture-day
DTSTART:20241003T123000Z
DTEND:20241003T173000Z
END:VEVENT
END:VCALENDAR
