BEGIN:VCALENDAR
VERSION:2.0
PRODID:SchoolNow
CALSCALE:GREGORIAN
BEGIN:VEVENT
UID:97826c22-6bc3-11ef-866f-02e3ad70b61f
DTSTAMP:20240905T202254Z
SUMMARY:NEHS/NJHS Candle Ceremony
URL;VALUE=URI:https://www.gls36.org/calendar/6532326/nehs-njhs-candle-cerem
 ony
DTSTART:20250212T233000Z
DTEND:20250213T003000Z
END:VEVENT
END:VCALENDAR
