BEGIN:VCALENDAR
VERSION:2.0
PRODID:SchoolNow
CALSCALE:GREGORIAN
BEGIN:VEVENT
UID:856fa22c-6bc1-11ef-bd45-0a58a9feac02
DTSTAMP:20240905T201236Z
SUMMARY:All School Spelling Bee
URL;VALUE=URI:https://www.gls36.org/calendar/6532219/all-school-spelling-be
 e
DTSTART:20250123T153000Z
DTEND:20250123T170000Z
END:VEVENT
END:VCALENDAR
