BEGIN:VCALENDAR
VERSION:2.0
PRODID:SchoolNow
CALSCALE:GREGORIAN
BEGIN:VEVENT
UID:b5cbc3c6-6bbf-11ef-bb68-0e3fb53f9fa1
DTSTAMP:20241009T165039Z
SUMMARY:Guided Study Canceled
URL;VALUE=URI:https://www.gls36.org/calendar/6532216/guided-study-canceled
DTSTART:20241031T194500Z
DTEND:20241031T220000Z
END:VEVENT
END:VCALENDAR
