BEGIN:VCALENDAR
VERSION:2.0
PRODID:SchoolNow
CALSCALE:GREGORIAN
BEGIN:VEVENT
UID:057418e6-6482-11ef-8b82-02ad6f7bbc3f
DTSTAMP:20240827T143827Z
SUMMARY:NJHS Supply Drive for the Troops
URL;VALUE=URI:https://www.gls36.org/calendar/6467255/njhs-supply-drive-for-
 the-troops
DTSTART:20240909T143700Z
DTEND:20240920T153700Z
END:VEVENT
END:VCALENDAR
