BEGIN:VCALENDAR
VERSION:2.0
PRODID:SchoolNow
CALSCALE:GREGORIAN
BEGIN:VEVENT
UID:085720cc-6481-11ef-8c26-0affc47061cf
DTSTAMP:20240827T143526Z
SUMMARY:First Day Of Guided Study
URL;VALUE=URI:https://www.gls36.org/calendar/6467225/first-day-of-guided-st
 udy
DTSTART:20240827T201500Z
DTEND:20240827T220000Z
ATTACH;FILENAME=2024-25 Guided Study Paperwork for Parents.pdf;FMTTYPE=appl
 ication/pdf:https://campussuite-storage.s3.amazonaws.com/prod/1053760/6c73
 247f-2f62-11e7-b792-22000bd8490f/2838276/85ead7c2-6481-11ef-ab00-0a58a9fea
 c02/file/2024-25 Guided Study Paperwork for Parents.pdf
ATTACH;FILENAME=2024-25 Activity Bus Permission.pdf;FMTTYPE=application/pdf
 :https://campussuite-storage.s3.amazonaws.com/prod/1053760/6c73247f-2f62-1
 1e7-b792-22000bd8490f/2838279/8f2ad242-6481-11ef-9e4f-0affebce799b/file/20
 24-25 Activity Bus Permission.pdf
END:VEVENT
END:VCALENDAR
