BEGIN:VCALENDAR
VERSION:2.0
PRODID:SchoolNow
CALSCALE:GREGORIAN
BEGIN:VEVENT
UID:138fcd8e-5a51-11ef-b84b-0a58a9feac02
DTSTAMP:20240814T152253Z
SUMMARY:First Day Of School Pre-K
URL;VALUE=URI:https://www.gls36.org/calendar/6400052/first-day-of-school-pr
 e-k
DTSTART;VALUE=DATE:20240822
DTEND;VALUE=DATE:20240823
END:VEVENT
END:VCALENDAR
