BEGIN:VCALENDAR
VERSION:2.0
PRODID:SchoolNow
CALSCALE:GREGORIAN
BEGIN:VEVENT
UID:c574f80e-28c3-11ef-9919-0a58a9feac02
DTSTAMP:20241113T192737Z
SUMMARY:Breakfast With Santa
URL;VALUE=URI:https://www.gls36.org/calendar/6112740/breakfast-with-santa
DTSTART:20241207T150000Z
DTEND:20241207T180000Z
ATTACH;FILENAME=Breakfast With Santa Flyer .pdf;FMTTYPE=application/pdf:htt
 ps://campussuite-storage.s3.amazonaws.com/prod/1053760/6c73247f-2f62-11e7-
 b792-22000bd8490f/2879155/2e7b9aba-a1f5-11ef-8078-0e61b0b6f785/file/Breakf
 ast With Santa Flyer .pdf
END:VEVENT
END:VCALENDAR
