BEGIN:VCALENDAR
VERSION:2.0
PRODID:SchoolNow
CALSCALE:GREGORIAN
BEGIN:VEVENT
UID:969b1b9e-28c3-11ef-b9b0-0a58a9feac02
DTSTAMP:20240924T155532Z
SUMMARY:PTO FALL FEST
URL;VALUE=URI:https://www.gls36.org/calendar/6112739/pto-fall-fest
DTSTART:20241019T200000Z
DTEND:20241019T220000Z
ATTACH;FILENAME=Fall Fest 2024 flyer.pdf;FMTTYPE=application/pdf:https://ca
 mpussuite-storage.s3.amazonaws.com/prod/1053760/6c73247f-2f62-11e7-b792-22
 000bd8490f/2852140/1b3b94c6-7a8d-11ef-a01f-0a58a9feac02/file/Fall Fest 202
 4 flyer.pdf
END:VEVENT
END:VCALENDAR
