BEGIN:VCALENDAR
VERSION:2.0
PRODID:SchoolNow
CALSCALE:GREGORIAN
BEGIN:VEVENT
UID:2779dc28-280a-11ef-a99a-0affef14baff
DTSTAMP:20241113T144534Z
SUMMARY:Parent Teacher Conferences
URL;VALUE=URI:https://www.gls36.org/calendar/6108147/parent-teacher-confere
 nces
DTSTART:20241202T160000Z
DTEND:20241203T010000Z
END:VEVENT
END:VCALENDAR
