BEGIN:VCALENDAR
VERSION:2.0
PRODID:SchoolNow
CALSCALE:GREGORIAN
BEGIN:VEVENT
UID:9c7e586c-2802-11ef-8cc8-0a58a9feac02
DTSTAMP:20240814T152154Z
SUMMARY:First Day Of School For K-8
URL;VALUE=URI:https://www.gls36.org/calendar/6108144/first-day-of-school
DTSTART:20240821T124500Z
DTEND:20240821T194500Z
END:VEVENT
END:VCALENDAR
