BEGIN:VCALENDAR
VERSION:2.0
PRODID:SchoolNow
CALSCALE:GREGORIAN
BEGIN:VEVENT
UID:a592b962-2801-11ef-8f2e-0a58a9feac02
DTSTAMP:20241007T174211Z
SUMMARY:Winter Fine Arts Night- Christmas at the Movies
URL;VALUE=URI:https://www.gls36.org/calendar/6108140/winter-fine-arts-night
 -pbl-showcase
DTSTART:20241212T233000Z
DTEND:20241213T003000Z
ATTACH;FILENAME=24-25 Winter Fine Arts Night (8.5 x 11 in).png;FMTTYPE=imag
 e/png:https://campussuite-storage.s3.amazonaws.com/prod/1053760/6c73247f-2
 f62-11e7-b792-22000bd8490f/2858739/34b3b33e-84d3-11ef-ab44-02e52cf89c4d/fi
 le/24-25 Winter Fine Arts Night (8.5 x 11 in).png
END:VEVENT
END:VCALENDAR
