BEGIN:VCALENDAR
VERSION:2.0
PRODID:SchoolNow
CALSCALE:GREGORIAN
BEGIN:VEVENT
UID:4d3f29c6-2801-11ef-9674-02f0b5b2aeb3
DTSTAMP:20240827T143707Z
SUMMARY:Curriculum Night
URL;VALUE=URI:https://www.gls36.org/calendar/6108139/curriculum-night
DTSTART:20240905T233000Z
DTEND:20240906T003000Z
END:VEVENT
END:VCALENDAR
