BEGIN:VCALENDAR
VERSION:2.0
PRODID:SchoolNow
CALSCALE:GREGORIAN
BEGIN:VEVENT
UID:1d5a9106-2800-11ef-aba4-02f0b5b2aeb3
DTSTAMP:20240723T154014Z
SUMMARY:Back to School BBQ/Supply Drop off
URL;VALUE=URI:https://www.gls36.org/calendar/6108137/back-to-school-bbq-sup
 ply-drop-off
DTSTART:20240818T170000Z
DTEND:20240818T190000Z
END:VEVENT
END:VCALENDAR
